BEGIN:VCALENDAR
VERSION:2.0
PRODID:-//Karlinem.cz - ECPv6.2.0.1//NONSGML v1.0//EN
CALSCALE:GREGORIAN
METHOD:PUBLISH
X-WR-CALNAME:Karlinem.cz
X-ORIGINAL-URL:https://karlinem.cz
X-WR-CALDESC:Akce na Karlinem.cz
REFRESH-INTERVAL;VALUE=DURATION:PT1H
X-Robots-Tag:noindex
X-PUBLISHED-TTL:PT1H
BEGIN:VTIMEZONE
TZID:Europe/Prague
BEGIN:DAYLIGHT
TZOFFSETFROM:+0100
TZOFFSETTO:+0200
TZNAME:CEST
DTSTART:20230326T010000
END:DAYLIGHT
BEGIN:STANDARD
TZOFFSETFROM:+0200
TZOFFSETTO:+0100
TZNAME:CET
DTSTART:20231029T010000
END:STANDARD
END:VTIMEZONE
BEGIN:VEVENT
DTSTART;VALUE=DATE:20231012
DTEND;VALUE=DATE:20231016
DTSTAMP:20260425T214646
CREATED:20230929T220853Z
LAST-MODIFIED:20230929T221414Z
UID:10000191-1697068800-1697414399@karlinem.cz
SUMMARY:Signal festival
DESCRIPTION:♺ Ekosystémy 01: Průzkum ♺\nVydejte se s námi na průzkum! Téma letošního ročníku jsou Ekosystémy a jejich průzkum\, během kterého se společně s námi setkáte s umělou inteligencí\, přírodními živly\, architektonickým řádem\, matematikou\, biologií\, poetikou\, dramatem i hrou.\nProzkoumat letos můžete největší galerijní zónu v historii se 7 unikátními instalacemi českých i zahraničních umělců a dalších 13 volně přístupných děl včetně dvou videomappingů.\n❍ KDY ❍\n12 → 15 10 2023\n❍ KDE ❍\nTrasa Centrum\, a Karlín/Holešovice.\nPodrobnosti o trasách a instalacích najdete tady ▶︎ www.signalfestival.com/signal/\nZažijte s námi letos Signal Festival ▶︎ bit.ly/vstupenky_Signal\n\n\n_EN\n♺ Ecosystems 01: Explore! ♺\nJoin us on an exploration! This year’s theme is Ecosystems and their exploration\, during which you will encounter artificial intelligence\, natural elements\, architectural order\, mathematics\, biology\, poetics\, drama and play together with us.\nThis year\, you can visit the largest gallery zone in history with 7 unique installations by Czech and international artists\, accompanied by 13 free works including two video mappings.\n❍ WHEN ❍\n12 → 15 10 2023\n❍ WHERE ❍\nPrague – City center\, Holešovice/Karlín\nGet your tickets here ▶︎ bit.ly/vstupenky_Signal
URL:https://karlinem.cz/event/signal-festival/
CATEGORIES:Festival
ATTACH;FMTTYPE=image/jpeg:https://karlinem.cz/wp-content/uploads/2023/09/311295525_5403347493076568_8808892438496923524_n.jpeg
END:VEVENT
BEGIN:VEVENT
DTSTART;TZID=Europe/Prague:20231015T110000
DTEND;TZID=Europe/Prague:20231015T180000
DTSTAMP:20260425T214646
CREATED:20230929T223550Z
LAST-MODIFIED:20230929T223550Z
UID:10000195-1697367600-1697392800@karlinem.cz
SUMMARY:Karlínské polívkování
DESCRIPTION:Srdečně vás zveme na další parádní Karlínské polívkování\, které se uskuteční v neděli 15. října na Karlínském náměstí od 11:00 – 18:00\nTěšit se můžete na širokou nabídku našich klasických českých polévek\, jako je například bramboračka\, zelňačka\, kulajda\, česnečka nebo třeba dršťková polévka a mnoho dalšího.\nSamozřejmě nebudou chybět polévky z celého světa. Velmi populární Pho\, chipotle\, bouillabaisse\, indicky DHAL\, francouzská cibulačka\, tradiční indonéská Soto Ayam nebo americká hutná polévka s grilovaným sýrovým sandwichem a mnoho dalších různých druhů krémových polévek a vývarů.\nI v letošním roce vás čekají skvělá živá hudební vystoupení a zábava pro malé i velké. 
URL:https://karlinem.cz/event/karlinske-polivkovani/
LOCATION:Karlínské náměstí\, Karlínské náměstí\, Karlín
CATEGORIES:Festival,Jídlo a pití
ATTACH;FMTTYPE=image/jpeg:https://karlinem.cz/wp-content/uploads/2023/09/377279260_894001835713916_8026590830739069947_n.jpeg
END:VEVENT
END:VCALENDAR