BEGIN:VCALENDAR
VERSION:2.0
PRODID:-//Karlinem.cz - ECPv6.2.0.1//NONSGML v1.0//EN
CALSCALE:GREGORIAN
METHOD:PUBLISH
X-ORIGINAL-URL:https://karlinem.cz
X-WR-CALDESC:Akce na Karlinem.cz
REFRESH-INTERVAL;VALUE=DURATION:PT1H
X-Robots-Tag:noindex
X-PUBLISHED-TTL:PT1H
BEGIN:VTIMEZONE
TZID:Europe/Prague
BEGIN:DAYLIGHT
TZOFFSETFROM:+0100
TZOFFSETTO:+0200
TZNAME:CEST
DTSTART:20230326T010000
END:DAYLIGHT
BEGIN:STANDARD
TZOFFSETFROM:+0200
TZOFFSETTO:+0100
TZNAME:CET
DTSTART:20231029T010000
END:STANDARD
END:VTIMEZONE
BEGIN:VEVENT
DTSTART;TZID=Europe/Prague:20231020T160000
DTEND;TZID=Europe/Prague:20231020T220000
DTSTAMP:20260425T214752
CREATED:20231015T034748Z
LAST-MODIFIED:20231015T034748Z
UID:10000202-1697817600-1697839200@karlinem.cz
SUMMARY:Poslední ROOFTOP BURGER party v 2023
DESCRIPTION:Máme tu říjen a to bohužel znamená\, že se musíme pomalu\, ale jistě rozloučit s grilem a letní zahrádkou.\nPřijďte si v pátek 20.10. naposledy posedět na terase\, poslechnout si deep house setík od našeho DJ MAARA a hlavně si vychutnat poslední cirkus burgery tohoto roku. \nZnovu gril rozpálíme zase až na jaře\, tak si nenechte ujít poslední šanci! \nTěšit se můžete i na nějaký ten akční drink nebo panáčka. Začínáme v 16:00
URL:https://karlinem.cz/event/posledni-rooftop-burger-party-v-2023/
LOCATION:Cirkus Pub\, Křižíkova 58\, Praha - Karlín\, 186 00
CATEGORIES:Jídlo a pití
ATTACH;FMTTYPE=image/jpeg:https://karlinem.cz/wp-content/uploads/2023/10/Screenshot-at-Oct-14-05-56-26.jpeg
END:VEVENT
END:VCALENDAR