BEGIN:VCALENDAR
VERSION:2.0
PRODID:-//Karlinem.cz - ECPv6.2.0.1//NONSGML v1.0//EN
CALSCALE:GREGORIAN
METHOD:PUBLISH
X-ORIGINAL-URL:https://karlinem.cz
X-WR-CALDESC:Akce na Karlinem.cz
REFRESH-INTERVAL;VALUE=DURATION:PT1H
X-Robots-Tag:noindex
X-PUBLISHED-TTL:PT1H
BEGIN:VTIMEZONE
TZID:Europe/Prague
BEGIN:DAYLIGHT
TZOFFSETFROM:+0100
TZOFFSETTO:+0200
TZNAME:CEST
DTSTART:20230326T010000
END:DAYLIGHT
BEGIN:STANDARD
TZOFFSETFROM:+0200
TZOFFSETTO:+0100
TZNAME:CET
DTSTART:20231029T010000
END:STANDARD
END:VTIMEZONE
BEGIN:VEVENT
DTSTART;TZID=Europe/Prague:20231021T190000
DTEND;TZID=Europe/Prague:20231021T210000
DTSTAMP:20260425T214749
CREATED:20231011T051710Z
LAST-MODIFIED:20231011T051710Z
UID:10000199-1697914800-1697922000@karlinem.cz
SUMMARY:Kino v Kasárnách - Anatomie pádu
DESCRIPTION:Jus­tine Tri­et — Fran­cie — 2023 — 150 min — CZ titulky \nÚspěšná spiso­vatel­ka San­dra (San­dra Hüller) žije se svým manželem Samuelem a jedenác­tiletým nev­idomým synem v odlehlé chatě ve fran­couzských Alpách. Jed­no­ho dne je ale Samuel nalezen mrtev. Byla to sebevraž­da\, nešťast­ná náho­da nebo má manželovu smrt na svě­domí samot­ná San­dra\, jejíž svéhlavá pova­ha z ní dělá hlavní podezřelou? Veře­jné vyšetřování pří­padu odkrývá nejen okol­nos­ti samot­né smr­ti\, ale také intim­ní a znepoko­jivé detai­ly jejich bouřlivého vztahu. Jus­tine Tri­et natoči­la napí­navé rodin­né dra­ma\, které díky rafi­no­vaně vys­tavěné­mu scénáři\, nápa­dité režii a vynika­jícím hereck­ým výkonům získa­lo na MFF v Cannes nejvyšší ocenění Zla­tou Pal­mu. (Aero­films)
URL:https://karlinem.cz/event/kino-v-kasarnach-anatomie-padu/
LOCATION:Kasárna Karlín\, Prvního pluku 2\, Karlín\, 18600\, Česká republika
CATEGORIES:Kino
ATTACH;FMTTYPE=image/jpeg:https://karlinem.cz/wp-content/uploads/2023/10/384341970_690916569728118_191358334489008341_n.jpeg
END:VEVENT
END:VCALENDAR