BEGIN:VCALENDAR
VERSION:2.0
PRODID:-//Karlinem.cz - ECPv6.2.0.1//NONSGML v1.0//EN
CALSCALE:GREGORIAN
METHOD:PUBLISH
X-ORIGINAL-URL:https://karlinem.cz
X-WR-CALDESC:Akce na Karlinem.cz
REFRESH-INTERVAL;VALUE=DURATION:PT1H
X-Robots-Tag:noindex
X-PUBLISHED-TTL:PT1H
BEGIN:VTIMEZONE
TZID:Europe/Prague
BEGIN:DAYLIGHT
TZOFFSETFROM:+0100
TZOFFSETTO:+0200
TZNAME:CEST
DTSTART:20230326T010000
END:DAYLIGHT
BEGIN:STANDARD
TZOFFSETFROM:+0200
TZOFFSETTO:+0100
TZNAME:CET
DTSTART:20231029T010000
END:STANDARD
END:VTIMEZONE
BEGIN:VEVENT
DTSTART;TZID=Europe/Prague:20231022T193000
DTEND;TZID=Europe/Prague:20231022T223000
DTSTAMP:20260425T214734
CREATED:20231011T052227Z
LAST-MODIFIED:20231011T052227Z
UID:10000200-1698003000-1698013800@karlinem.cz
SUMMARY:Koncert Desire Marea
DESCRIPTION:Hudeb­ní rit­uál i výpověď o hluboké touze. V Praze poprvé vys­toupí Desire Marea z JAR\, a to 22. říj­na 2023 od 19:30. \nYou think that I’m horny\nBaby you arouse me\nAnd I don’t even wan­na fuck you\nI just wan­na be with you \nTo zpí­va­jí jihoafričtí uměl­ci Desire Marea na svém deb­u­tovém albu Desire. Touha\, mod­erní lás­ka i ztrá­ta a přede­vším hud­ba\, která má až cer­e­moniál­ní rozměry\, se tu potká­va­jí s avant­gard­ní elek­tron­ick­ou pro­dukcí čer­pa­jící ze západ­ní tradice i míst­ního gqom. Desire Marea se české­mu pub­liku před­staví poprvé v pros­toru Kasár­na Kar­lín\, a to ve čtyřčlen­né kapel­ní sestavě. \nEponymní debut z roku 2020 otevíral hluboce osob­ní téma­ta a pra­co­v­al převážně na poli klubových ryt­mů a aranží. Letošní des­ka On The Romance of Being se vydává pom­péznější spir­i­tuál­ní ces­tou a v epick­ých bal­adách odráží uměl­covu zkušenost s duchovním léči­tel­stvím. Na jejím nahrávání se podílel třinác­tičlen­ný orchestr a její zvuk v sobě mísí prvky od gospelu po free jazz. Desire Marea dříve půso­bil v jihoafrick­ém kolek­tivu FAKA\, se kterým doces­to­val i na evrop­ské fes­ti­valy jako jsou Unsound nebo Sónar. V sólové kar­iéře se pak zaměřil na zkoumání vlast­ní iden­ti­ty nebo hran­ice mezi spir­i­tuál­ním a erotickým.
URL:https://karlinem.cz/event/koncert-desire-marea/
LOCATION:Kasárna Karlín\, Prvního pluku 2\, Karlín\, 18600\, Česká republika
CATEGORIES:Koncert
ATTACH;FMTTYPE=image/jpeg:https://karlinem.cz/wp-content/uploads/2023/10/367457758_1007524067150145_4472247712880349046_n-1.jpeg
END:VEVENT
END:VCALENDAR