BEGIN:VCALENDAR
VERSION:2.0
PRODID:-//Karlinem.cz - ECPv6.2.0.1//NONSGML v1.0//EN
CALSCALE:GREGORIAN
METHOD:PUBLISH
X-WR-CALNAME:Karlinem.cz
X-ORIGINAL-URL:https://karlinem.cz
X-WR-CALDESC:Akce na Karlinem.cz
REFRESH-INTERVAL;VALUE=DURATION:PT1H
X-Robots-Tag:noindex
X-PUBLISHED-TTL:PT1H
BEGIN:VTIMEZONE
TZID:Europe/Prague
BEGIN:DAYLIGHT
TZOFFSETFROM:+0100
TZOFFSETTO:+0200
TZNAME:CEST
DTSTART:20230326T010000
END:DAYLIGHT
BEGIN:STANDARD
TZOFFSETFROM:+0200
TZOFFSETTO:+0100
TZNAME:CET
DTSTART:20231029T010000
END:STANDARD
END:VTIMEZONE
BEGIN:VEVENT
DTSTART;TZID=Europe/Prague:20231023T190000
DTEND;TZID=Europe/Prague:20231023T210000
DTSTAMP:20260425T214700
CREATED:20231011T052645Z
LAST-MODIFIED:20231011T052645Z
UID:10000201-1698087600-1698094800@karlinem.cz
SUMMARY:Kino - Minulé životy
DESCRIPTION:Celine Song — USA/​Jižní Korea — 2023 — 105 min — CZ titulky \nSpiso­vatelku Noru a její dět­sk­ou lásku Hae-Sun­ga sice dělí tisíce kilo­metrů\, spo­ju­je je však výjimečně hluboké pouto. Po více než dvou dekádách odloučení se dvě spřízněné duše setká­va­jí během pár dní v New Yorku. Nečekané shledání s osu­dovým mužem přimě­je Noru klást si otázku: ​„Co by bylo kdy­by?“ Režisér­ka Celine Song v citlivé mod­erní roman­ci jedinečným způ­sobem v něko­li­ka časových rov­inách vypráví příběh dvou lidí\, jež se navzá­jem vel­mi milu­jí\, a přesto se jejich osudy fatál­ně míje­ly. Oduševnělý příběh uchvátil diváky na fes­ti­valech Sun­dance i v Berlíně\, a teď se chys­tá doj­mout i vás. (Aero­films)
URL:https://karlinem.cz/event/kino-minule-zivoty/
LOCATION:Kasárna Karlín\, Prvního pluku 2\, Karlín\, 18600\, Česká republika
CATEGORIES:Kino
ATTACH;FMTTYPE=image/jpeg:https://karlinem.cz/wp-content/uploads/2023/10/382737934_690919176394524_328860015169260922_n.jpeg
END:VEVENT
END:VCALENDAR