BEGIN:VCALENDAR
VERSION:2.0
PRODID:-//Karlinem.cz - ECPv6.2.0.1//NONSGML v1.0//EN
CALSCALE:GREGORIAN
METHOD:PUBLISH
X-ORIGINAL-URL:https://karlinem.cz
X-WR-CALDESC:Akce na Karlinem.cz
REFRESH-INTERVAL;VALUE=DURATION:PT1H
X-Robots-Tag:noindex
X-PUBLISHED-TTL:PT1H
BEGIN:VTIMEZONE
TZID:Europe/Prague
BEGIN:DAYLIGHT
TZOFFSETFROM:+0100
TZOFFSETTO:+0200
TZNAME:CEST
DTSTART:20230326T010000
END:DAYLIGHT
BEGIN:STANDARD
TZOFFSETFROM:+0200
TZOFFSETTO:+0100
TZNAME:CET
DTSTART:20231029T010000
END:STANDARD
END:VTIMEZONE
BEGIN:VEVENT
DTSTART;TZID=Europe/Prague:20231029T110000
DTEND;TZID=Europe/Prague:20231029T190000
DTSTAMP:20260426T004900
CREATED:20230929T223820Z
LAST-MODIFIED:20230929T223820Z
UID:10000196-1698577200-1698606000@karlinem.cz
SUMMARY:Halloween v Karlíně
DESCRIPTION:Srdečně zveme všechny děti i dospěláky\, co milují Halloweenské oslavy a vše\, co k tomu patří v neděli 29.10. od 11:00-19:00 na Karlínské náměstí. Společně s Karlínským Spektrem pro vás chystáme den plný zábavy a zážitků.Těšit se můžete na tradiční vyřezávání dýní\, pohádku\, živou muziku\, kreativní dílny a malování na obličej. Ti z vás\, co dorazí v maskách se mohou těšit na odměnu a celý den bude zakončen lampionovým průvodem. \nBude to parádní zábava\, tak určitě doražte!
URL:https://karlinem.cz/event/halloween-v-karline/
LOCATION:Karlínské náměstí\, Karlínské náměstí\, Karlín
CATEGORIES:Meet Up
ATTACH;FMTTYPE=image/jpeg:https://karlinem.cz/wp-content/uploads/2023/09/380110383_901117131669053_7187791337225665357_n.jpeg
END:VEVENT
END:VCALENDAR