BEGIN:VCALENDAR
VERSION:2.0
PRODID:-//Karlinem.cz - ECPv6.2.0.1//NONSGML v1.0//EN
CALSCALE:GREGORIAN
METHOD:PUBLISH
X-ORIGINAL-URL:https://karlinem.cz
X-WR-CALDESC:Akce na Karlinem.cz
REFRESH-INTERVAL;VALUE=DURATION:PT1H
X-Robots-Tag:noindex
X-PUBLISHED-TTL:PT1H
BEGIN:VTIMEZONE
TZID:Europe/Prague
BEGIN:DAYLIGHT
TZOFFSETFROM:+0100
TZOFFSETTO:+0200
TZNAME:CEST
DTSTART:20230326T010000
END:DAYLIGHT
BEGIN:STANDARD
TZOFFSETFROM:+0200
TZOFFSETTO:+0100
TZNAME:CET
DTSTART:20231029T010000
END:STANDARD
END:VTIMEZONE
BEGIN:VEVENT
DTSTART;TZID=Europe/Prague:20231112T110000
DTEND;TZID=Europe/Prague:20231112T180000
DTSTAMP:20260425T145021
CREATED:20231030T053149Z
LAST-MODIFIED:20231030T053149Z
UID:10000227-1699786800-1699812000@karlinem.cz
SUMMARY:Karlínská husa
DESCRIPTION:Srdečně vás zveme 12. listopadu na Karlínské náměstí na skvělou akci Karlínská husa. Těšit se můžete na spousty voňavých husích specialit a samozřejmě nebudou chybět mladá a Svatomartinská vína od těch nejlepších vinařství. Do taneční nálady vás dostane kapela Lovesong Orchestra\, která pro vás vystoupí od 13:00 a jako vždy to bude párty\, jak má být\, tak si to nenechte ujít. Těšíme se na vás.
URL:https://karlinem.cz/event/karlinska-husa/
LOCATION:Karlínské náměstí\, Karlínské náměstí\, Karlín
CATEGORIES:Jídlo a pití,Koncert
ATTACH;FMTTYPE=image/jpeg:https://karlinem.cz/wp-content/uploads/2023/10/391588009_914362933677806_2718964037071856812_n.jpeg
END:VEVENT
END:VCALENDAR