BEGIN:VCALENDAR
VERSION:2.0
PRODID:-//Karlinem.cz - ECPv6.2.0.1//NONSGML v1.0//EN
CALSCALE:GREGORIAN
METHOD:PUBLISH
X-ORIGINAL-URL:https://karlinem.cz
X-WR-CALDESC:Akce na Karlinem.cz
REFRESH-INTERVAL;VALUE=DURATION:PT1H
X-Robots-Tag:noindex
X-PUBLISHED-TTL:PT1H
BEGIN:VTIMEZONE
TZID:Europe/Prague
BEGIN:DAYLIGHT
TZOFFSETFROM:+0100
TZOFFSETTO:+0200
TZNAME:CEST
DTSTART:20230326T010000
END:DAYLIGHT
BEGIN:STANDARD
TZOFFSETFROM:+0200
TZOFFSETTO:+0100
TZNAME:CET
DTSTART:20231029T010000
END:STANDARD
END:VTIMEZONE
BEGIN:VEVENT
DTSTART;VALUE=DATE:20231208
DTEND;VALUE=DATE:20231210
DTSTAMP:20260425T131558
CREATED:20231201T164220Z
LAST-MODIFIED:20231201T164220Z
UID:10000286-1701993600-1702166399@karlinem.cz
SUMMARY:Adventní dvorek
DESCRIPTION:Blíží se ADVENT 🎆\nPojďme se potkat\, pro každého se najde něco👉\n✅️pro nákupní maniaky široká nabídka dárků\n✅️pro pijany a labužníky spousta dobrot\n✅️pro remcaly párek\, vaječňák a mikrofon\n✅️pro tvůrce koutek DIY\n✅️pro zmrzlé oheň\, víno\, zpěv\n✅️pro horkokrevné studené víno a zpěv\n✅️pro vtipálky hudba\, mikrofon a víno\n✅️pro autisty tichý růžek s knihou a křeslem\n🥂💃🙏🔥❄️🍷☕️🍣🎄\nA kdo nepřijde\, jako by nebyl! 😉 \n@oookarlin\n@vinoteka_karlin\n@commodes3\n@kaava.shop\n@tokyobikepraha\n@_eldeco\n@valczik
URL:https://karlinem.cz/event/adventni-dvorek/
LOCATION:Šaldova 28\, Šaldova 28\, Praha 8 - Karlín\, 18600
CATEGORIES:Výstava
ATTACH;FMTTYPE=image/png:https://karlinem.cz/wp-content/uploads/2023/12/Screenshot-at-Dec-01-10-37-08.png
END:VEVENT
END:VCALENDAR