BEGIN:VCALENDAR
VERSION:2.0
PRODID:-//Karlinem.cz - ECPv6.2.0.1//NONSGML v1.0//EN
CALSCALE:GREGORIAN
METHOD:PUBLISH
X-WR-CALNAME:Karlinem.cz
X-ORIGINAL-URL:https://karlinem.cz
X-WR-CALDESC:Akce na Karlinem.cz
REFRESH-INTERVAL;VALUE=DURATION:PT1H
X-Robots-Tag:noindex
X-PUBLISHED-TTL:PT1H
BEGIN:VTIMEZONE
TZID:Europe/Prague
BEGIN:DAYLIGHT
TZOFFSETFROM:+0100
TZOFFSETTO:+0200
TZNAME:CEST
DTSTART:20230326T010000
END:DAYLIGHT
BEGIN:STANDARD
TZOFFSETFROM:+0200
TZOFFSETTO:+0100
TZNAME:CET
DTSTART:20231029T010000
END:STANDARD
BEGIN:DAYLIGHT
TZOFFSETFROM:+0100
TZOFFSETTO:+0200
TZNAME:CEST
DTSTART:20240331T010000
END:DAYLIGHT
BEGIN:STANDARD
TZOFFSETFROM:+0200
TZOFFSETTO:+0100
TZNAME:CET
DTSTART:20241027T010000
END:STANDARD
END:VTIMEZONE
BEGIN:VEVENT
DTSTART;TZID=Europe/Prague:20231210T090000
DTEND;TZID=Europe/Prague:20240229T220000
DTSTAMP:20260425T131454
CREATED:20231224T084330Z
LAST-MODIFIED:20231224T084330Z
UID:10000309-1702198800-1709244000@karlinem.cz
SUMMARY:Ledové kluziště River Rink s apres-skate barem
DESCRIPTION:brusle—drinky—street food—after-skate parties\nBruslíme každý všední den 10 – 22h a o víkendech 9 – 22h \nBrusle půjčíme dětem i dospělým. \nZažijte autentickou zimní atmosféru uprostřed pulzujícího Karlína\, kde letos opět ožívá jedinečný prostor s gastro zónou\, oblíbeným svařákem a velkým ledovým kluzištěm o rozměrech 30 x 15 m. Na něm si můžete skvěle zabruslit a poté si vychutnat aprés-skate drink nebo after-skate party v baru Revír vzdáleném jen pár kroků od kluziště. Cool prostor\, hravé koktejlové menu\, naturální vína i tematické hudební večery s live DJ sety vás naladí do příjemné pohody\, za kterou se budete rádi vracet.
URL:https://karlinem.cz/event/ledove-kluziste-river-rink-s-apres-skate-barem/
LOCATION:River Rink Karlín\, Karolínská 8\, Karlín\, 18600\, Česká republika
CATEGORIES:Sport
ATTACH;FMTTYPE=image/jpeg:https://karlinem.cz/wp-content/uploads/2023/12/riverrink_skate.jpeg
END:VEVENT
BEGIN:VEVENT
DTSTART;TZID=Europe/Prague:20231211T100000
DTEND;TZID=Europe/Prague:20240229T210000
DTSTAMP:20260425T131454
CREATED:20231201T162946Z
LAST-MODIFIED:20231224T081634Z
UID:10000284-1702288800-1709240400@karlinem.cz
SUMMARY:Ledová plocha Karlínského Spektra
DESCRIPTION:Dvůr Karlínského Spektra je přes zimu neodmyslitelně spojován s provozem ledové plochy. Letos můžete přijít trénovat za padesátikorunu\, případně rezervovat celou ledovou plochu pro kamarády\, rodinu nebo partu za pětistovku. Školy a školky mohou užívat ledu za desetikorunu na dítě.\nREZERVACE na ledovaplocha.ddmpraha.app vždy jen na následující týden. \nLedová plocha je otevřena ve všední dny v čase 10.00–21.00\, o víkendu v čase 10.00–18.00. \nSvou návštěvu plánujte\, prosím\, mimo hodiny vyhrazené pro kurzy bruslení (probíhají od pondělí do středy v čase 16.00–19.00\, volná místa ještě máme!). \nVe Spektru je omezená možnost půjčit si několik párů bruslí (za 50 Kč)\, a to v dětských velikostech. \nAktuální stav ledu doporučujeme dopředu ověřit na telefonním čísle 222 333 888. Více o ledové ploše píšeme zde. \nTěšíme se na vás!
URL:https://karlinem.cz/event/otevreni-ledove-plochy-karlinskeho-spektra/
LOCATION:DDM Karlínské Spektrum\, Karlínské nám. 7\, Praha 8
CATEGORIES:Sport
ATTACH;FMTTYPE=image/jpeg:https://karlinem.cz/wp-content/uploads/2023/12/img_83761.jpeg
END:VEVENT
END:VCALENDAR