BEGIN:VCALENDAR
VERSION:2.0
PRODID:-//Karlinem.cz - ECPv6.2.0.1//NONSGML v1.0//EN
CALSCALE:GREGORIAN
METHOD:PUBLISH
X-ORIGINAL-URL:https://karlinem.cz
X-WR-CALDESC:Akce na Karlinem.cz
REFRESH-INTERVAL;VALUE=DURATION:PT1H
X-Robots-Tag:noindex
X-PUBLISHED-TTL:PT1H
BEGIN:VTIMEZONE
TZID:Europe/Prague
BEGIN:DAYLIGHT
TZOFFSETFROM:+0100
TZOFFSETTO:+0200
TZNAME:CEST
DTSTART:20240331T010000
END:DAYLIGHT
BEGIN:STANDARD
TZOFFSETFROM:+0200
TZOFFSETTO:+0100
TZNAME:CET
DTSTART:20241027T010000
END:STANDARD
END:VTIMEZONE
BEGIN:VEVENT
DTSTART;TZID=Europe/Prague:20240601T160000
DTEND;TZID=Europe/Prague:20240601T170000
DTSTAMP:20260425T003216
CREATED:20240603T075832Z
LAST-MODIFIED:20240603T075832Z
UID:10000529-1717257600-1717261200@karlinem.cz
SUMMARY:Den dětí v Přístavu 18600
DESCRIPTION:Slavíme den dětí v Přístavu.  Letos to hezky vychází na sobotu\, tak dorazte se svými nejmenšími a klidně i těmi většími. Neděláme věkové rozdíly\, každý z nás má v sobě přece jen ukryté nějaké to dítko. 👧 \nNa co se můžete těšit? 👇\n✨ 16:00 – 17:00 loutková pohádka Kde budeme bydlet divadla vi.TVOR. 🐻\nBrzy doplníme:\n✨ tvořivý workshop z recyklovaných materiálů\n✨ dětské nápoje \n🐻 Vi.TVOR: Kde budeme bydlet 🐻\nMedvěd architekt. Medvěd řemeslník. Medvěd bytový designer. Medvěd odborník na přírodní nemovitosti. Co se musí stát medvědovi\, aby se vydal na cestu stavitelského poznání? Loutková pohádka o medvědovi\, který putuje lesem a hledá vhodné místo k bydlení. 🌲\nVěnováno všem\, kterým chybí obydlí! Hrdina této pohádky medvěd je sice hodný\, ale kvůli své hamižnosti se dostane do potíží. Letos nashromáždil tolik medu\, že se s ním nevejde do domečku. Nezbývá mu nic jiného než hledat domeček nový. Cestou si rád nechá poradit od ostatních obyvatel lesa\, ale rychle zjistí\, že ne všichni to s ním myslí dobře. Nejdůležitější je pro něho ovšem jen jedno – včas se uložit k zimnímu spánku.\nUrčeno divákům od 3 let.
URL:https://karlinem.cz/event/den-deti-v-pristavu-18600/
LOCATION:Přístav 18600\, Rohanský ostrov 8\, Karlín\, 18600\, Česká republika
CATEGORIES:Divadlo,Pro děti
ATTACH;FMTTYPE=image/png:https://karlinem.cz/wp-content/uploads/2024/05/Den-deti-1.png
END:VEVENT
END:VCALENDAR