BEGIN:VCALENDAR
VERSION:2.0
PRODID:-//Karlinem.cz - ECPv6.2.0.1//NONSGML v1.0//EN
CALSCALE:GREGORIAN
METHOD:PUBLISH
X-WR-CALNAME:Karlinem.cz
X-ORIGINAL-URL:https://karlinem.cz
X-WR-CALDESC:Akce na Karlinem.cz
REFRESH-INTERVAL;VALUE=DURATION:PT1H
X-Robots-Tag:noindex
X-PUBLISHED-TTL:PT1H
BEGIN:VTIMEZONE
TZID:Europe/Prague
BEGIN:DAYLIGHT
TZOFFSETFROM:+0100
TZOFFSETTO:+0200
TZNAME:CEST
DTSTART:20240331T010000
END:DAYLIGHT
BEGIN:STANDARD
TZOFFSETFROM:+0200
TZOFFSETTO:+0100
TZNAME:CET
DTSTART:20241027T010000
END:STANDARD
END:VTIMEZONE
BEGIN:VEVENT
DTSTART;TZID=Europe/Prague:20240709T203000
DTEND;TZID=Europe/Prague:20240709T223000
DTSTAMP:20260425T174535
CREATED:20240621T114248Z
LAST-MODIFIED:20240621T114248Z
UID:10000570-1720557000-1720564200@karlinem.cz
SUMMARY:gogolák+grasse: Urbanismus a návsi
DESCRIPTION:Večery +\, o urbanismu a jeho překryvech. Dramaturgie každého večera je zacílená na rozdílná témata. Gogolák+Grasse tak ve spolupráci s Přístav 18600 chtějí poukázat na různé aspekty urbanismu\, plánování měst a jejich dopad na naše prostředí.\nDruhý večer desátého ročníku je zaměřen na „návsi“ a urbanismus.\nNávsi jsou protipólem náměstí – hlavními uzly vesnického prostředí. V rámci jejich urbandesignu – tedy řešení urbanistického detailu v podobě prostředí\, se podíváme zejména na různorodost těchto prostranství a vstupů do nich. Od skupin objektů a jejich prostranství až po doplňování a rozšiřování systému jejich prostranství\, případně reminiscencí na ně. Dnešní život i využití vesnic a drobných sídel je zásadní otázkou pro Českou republiku s ohledem na jejich množství a různorodost.\nJaký má dnes význam náves v rámci vesnice a urbanismu? Jak pojmout současné přístupy? Jaké pojmou pobývání a charakter vesnice v urbanismu?
URL:https://karlinem.cz/event/gogolakgrasse-urbanismus-a-navsi/
LOCATION:Přístav 18600\, Rohanský ostrov 8\, Karlín\, 18600\, Česká republika
CATEGORIES:Přednáška
ATTACH;FMTTYPE=image/jpeg:https://karlinem.cz/wp-content/uploads/2024/06/448316009_969401144982169_7159020987260015337_n.jpg
END:VEVENT
END:VCALENDAR