BEGIN:VCALENDAR
VERSION:2.0
PRODID:-//Karlinem.cz - ECPv6.2.0.1//NONSGML v1.0//EN
CALSCALE:GREGORIAN
METHOD:PUBLISH
X-ORIGINAL-URL:https://karlinem.cz
X-WR-CALDESC:Akce na Karlinem.cz
REFRESH-INTERVAL;VALUE=DURATION:PT1H
X-Robots-Tag:noindex
X-PUBLISHED-TTL:PT1H
BEGIN:VTIMEZONE
TZID:Europe/Prague
BEGIN:DAYLIGHT
TZOFFSETFROM:+0100
TZOFFSETTO:+0200
TZNAME:CEST
DTSTART:20230326T010000
END:DAYLIGHT
BEGIN:STANDARD
TZOFFSETFROM:+0200
TZOFFSETTO:+0100
TZNAME:CET
DTSTART:20231029T010000
END:STANDARD
END:VTIMEZONE
BEGIN:VEVENT
DTSTART;TZID=Europe/Prague:20231004T180000
DTEND;TZID=Europe/Prague:20231004T200000
DTSTAMP:20260424T092808
CREATED:20230929T223151Z
LAST-MODIFIED:20230929T223151Z
UID:10000194-1696442400-1696449600@karlinem.cz
SUMMARY:Fotovíno s Kevinem V. Tonem
DESCRIPTION:Přijďte na první z našich pravidelných setkání v nově otevřené galerii Fragment. Fotovíno je setkání přátel fotografie s autory nad sklenkou dobrého vína. První z nich bude fotograf Kevin V. Ton\, který s Vámi promluví na téma „Cesta z Karlína ke Grantu a zpět“.\nKDY? 4.10.2023 od 18.00\nKDE? Fragment Gallery\, Rohanské nábřeží 713/6\, 18600 Praha 8 – Invalidovna\nVíno: Dog in Dock\nWeb galerie: https://www.czechphotoedition.org/\nSvou účast nám prosím potvrďte na e-mail: cp@czechphoto.org
URL:https://karlinem.cz/event/fotovino-s-kevinem-v-tonem/
LOCATION:Fragment Gallery\, Rohanské nábřeží 713/6\, Praha 8 - Invalidovna\, 18600
CATEGORIES:Meet Up,Přednáška
ATTACH;FMTTYPE=image/jpeg:https://karlinem.cz/wp-content/uploads/2023/09/381046786_692212139616487_5769525250825580205_n.jpeg
ORGANIZER;CN="Fragment%20Gallery":MAILTO:info@czechphoto.org
END:VEVENT
BEGIN:VEVENT
DTSTART;VALUE=DATE:20231011
DTEND;VALUE=DATE:20231013
DTSTAMP:20260424T092808
CREATED:20230922T022439Z
LAST-MODIFIED:20230922T022439Z
UID:10000174-1696982400-1697155199@karlinem.cz
SUMMARY:KONFERENCE FORUM ELEKTROMOBILITA 2023
DESCRIPTION:6. ročník konference o současnosti\na budoucnosti bateriové a vodíkové elektromobility\nTENTO ROK SE MŮŽETE TĚŠIT CELKEM NA DVA DNY NABITÉ PŘEDNÁŠKAMI A DISKUSEMI ZAMĚŘENÝMI NA JIŽ DOBŘE ZNÁMÁ TÉMATA JAKO JE ELEKTRIFIKACE FLEETŮ A ROZVOJ DOBÍJECÍ INFRASTRUKTURY\, ALE I NA NOVÁ\, ZATO RYCHLE ROSTOUCÍ\, TÉMATA ELEKTRIFIKACE TĚŽKÝCH VOZIDEL A VODÍKU. I LETOS BUDE SOUČÁSTÍ KONFERENCE PREZENTACE VOZIDEL VÝZNAMNÝCH AUTOMOBILEK A MOŽNOST TESTOVACÍCH JÍZD. \nV ZÁVĚRU PRVNÍHO DNE KONFERENCE BUDE SPOLEČENSKÝ KOKTEJL\, KTERÝ JE URČEN VŠEM ZÁJEMCŮM O ROZŠÍŘENÝ NETWORKING K NAVÁZÁNÍ KONTAKTŮ. \nČEMU SE NA KONFERENCI FORA ELEKTROMOBILITA BUDEME VĚNOVAT? \n• ELEKTRIFIKACE FLEETŮ JEŠTĚ NENÍ VE FULL SWING\, ALE PROGRES JE ZŘEJMÝ\n• VÝDRŽ KAPACITY BATERIÍ\, GARANCE A ROZVOJ SEKUNDÁRNÍHO TRHU\n• ZPŘÍSŇOVÁNÍ EMISNÍ LEGISLATIVY A NOVÉ INCENTIVY\n• ELEKTRIFIKACE NÁKLADNÍ DOPRAVY UŽ MÁ PLNOU POZORNOST TĚCH\, KTERÝCH SE BUDE TÝKAT\n• INOVACE: NOVINKY V AUTECH\, EVOLUCE BATERIÍ\, ELEKTROMOBILITA A FLEXIBILITA V SÍTI\n• VODÍK V DOPRAVĚ: ROZVOJ PRO VZDÁLENĚJŠÍ CÍLE\, NEVSADIT VŠE JEN NA BATERIE\n• BUDOVY A ELEKTROMOBILITA: DOBÍJECÍ ŘEŠENÍ\, INTEGRACE DO INTELIGENTNÍCH BUDOV\, POŽÁRNÍ PŘEDPISY\n• SPOLEČNOST: MENTÁLNÍ BARIÉRY\, REÁLNÁ UHLÍKOVÁ STOPA\, ELEKTROMOBILITA V ESG \nPRO KOHO JE FORUM URČENO \n• PRO VŠECHNY\, KTERÉ ZAJÍMÁ BOOM ELEKTROMOBILITY\n• SPOLEČNOSTI S MALÝMI I VELKÝMI FLEETY OSOBNÍCH\, UŽITKOVÝCH I TĚŽKÝCH VOZIDEL\n• STÁTNÍ SPRÁVU\n• MUNICIPALITY\n• DODAVATELE PRODUKTŮ A SLUŽEB ELEKTROMOBILITY A VODÍKOVÉ MOBILITY\n• LEASINGOVÉ SPOLEČNOSTI A BANKY \nVÍCE INFORMACÍ NAJDETE NA HTTPS://WWW.FORUMELEKTROMOBILITA.CZ.
URL:https://karlinem.cz/event/konference-forum-elektromobilita-2023/
LOCATION:Forum Karlín\, Pernerova 51\, Praha 8\, 18600
CATEGORIES:Meet Up,Přednáška,Výstava,Workshop
ATTACH;FMTTYPE=image/jpeg:https://karlinem.cz/wp-content/uploads/2023/09/366968209_684509320380725_1296704899619103348_n.jpeg
END:VEVENT
BEGIN:VEVENT
DTSTART;TZID=Europe/Prague:20231031T180000
DTEND;TZID=Europe/Prague:20231031T220000
DTSTAMP:20260424T092809
CREATED:20231018T060257Z
LAST-MODIFIED:20231018T060257Z
UID:10000206-1698775200-1698789600@karlinem.cz
SUMMARY:SATOSHILABS MEETUP: Designing and Developing a New Hardware
DESCRIPTION:If you are a tech prod­uct enthu­si­ast and you want to get rare first­hand insights into the jour­ney of cre­at­ing hard­ware from scratch\, then this meet­up is for you. \nTre­zor just launched a new prod­uct line that aims to bring self-cus­tody and dig­i­tal secu­ri­ty clos­er to the mass­es. And Matěj Žák\, Trezor’s CEO and Adam Budín­ský\, Trezor’s Head of Hard­ware\, are ready to spill some tea about how they made it hap­pen — from research\, project plan­ning\, design process and chal­lenges to behind-the-scenes sto­ries\, and takeaways. \nSo grab your tick­et\, bring your curios­i­ty and let’s dive into the fas­ci­nat­ing world of hard­ware together. \nThe event will be held in English. \nDoors open at 6 p.m. and you can look for­ward to: \n👉 insight­ful Case study pre­sen­ta­tion about the Tre­zor Safe fam­i­ly prod­uct line creation\n👉 Q&A and open dis­cus­sion\, so bring your ques­tions (or send them before­hand via IG @satoshilabs DMs to ensure your ques­tions will be answered)\n👉 light­ning raf­fle with unique prizes (new Tre­zor Safe 3 includ­ed)\, so have your LN wal­let ready (we rec­om­mend Wal­let of Satoshi)\n👉 a chance to take home a Tre­zor HW wallet\n👉 and of course net­work­ing with oth­er tech enthu­si­ast and Satoshi­L­abs peeps \nThe capac­i­ty is lim­it­ed\, so don’t hes­i­tate to book your seat.\nWe’re look­ing for­ward to meet­ing you soon at Kasár­na Karlín! \nBy tak­ing part in this event\, you grant the event orga­niz­ers full rights to the use of images result­ing from the pho­tog­ra­phy and video film­ing\, and any repro­duc­tions or adap­ta­tions of the images for mar­ket­ing\, pub­lic­i­ty or oth­er pur­pos­es. This might include (but is not lim­it­ed to): the right to use them in print­ed and online pub­lic­i­ty\, social media and press releas­es. If you do not wish to be pho­tographed\, please inform an event orga­niz­er dur­ing check-in.
URL:https://karlinem.cz/event/satoshilabs-meetup-designing-and-developing-a-new-hardware/
LOCATION:Kasárna Karlín\, Prvního pluku 2\, Karlín\, 18600\, Česká republika
CATEGORIES:Meet Up
ATTACH;FMTTYPE=image/jpeg:https://karlinem.cz/wp-content/uploads/2023/10/https___cdn.evbuc_.com_images_619038529_1361063847403_1_original.jpeg
END:VEVENT
END:VCALENDAR