BEGIN:VCALENDAR
VERSION:2.0
PRODID:-//Karlinem.cz - ECPv6.2.0.1//NONSGML v1.0//EN
CALSCALE:GREGORIAN
METHOD:PUBLISH
X-WR-CALNAME:Karlinem.cz
X-ORIGINAL-URL:https://karlinem.cz
X-WR-CALDESC:Akce na Karlinem.cz
REFRESH-INTERVAL;VALUE=DURATION:PT1H
X-Robots-Tag:noindex
X-PUBLISHED-TTL:PT1H
BEGIN:VTIMEZONE
TZID:Europe/Prague
BEGIN:DAYLIGHT
TZOFFSETFROM:+0100
TZOFFSETTO:+0200
TZNAME:CEST
DTSTART:20230326T010000
END:DAYLIGHT
BEGIN:STANDARD
TZOFFSETFROM:+0200
TZOFFSETTO:+0100
TZNAME:CET
DTSTART:20231029T010000
END:STANDARD
BEGIN:DAYLIGHT
TZOFFSETFROM:+0100
TZOFFSETTO:+0200
TZNAME:CEST
DTSTART:20240331T010000
END:DAYLIGHT
BEGIN:STANDARD
TZOFFSETFROM:+0200
TZOFFSETTO:+0100
TZNAME:CET
DTSTART:20241027T010000
END:STANDARD
BEGIN:DAYLIGHT
TZOFFSETFROM:+0100
TZOFFSETTO:+0200
TZNAME:CEST
DTSTART:20250330T010000
END:DAYLIGHT
BEGIN:STANDARD
TZOFFSETFROM:+0200
TZOFFSETTO:+0100
TZNAME:CET
DTSTART:20251026T010000
END:STANDARD
END:VTIMEZONE
BEGIN:VEVENT
DTSTART;TZID=Europe/Prague:20250123T173000
DTEND;TZID=Europe/Prague:20250123T200000
DTSTAMP:20260421T195655
CREATED:20241219T135841Z
LAST-MODIFIED:20241219T140122Z
UID:10000571-1737653400-1737662400@karlinem.cz
SUMMARY:FFP: Detox – jak se odpojit od toxinů
DESCRIPTION:Jak se odpojit od toxinů\nVe druhém večeru FutureFood Prague otevíráme téma\, které v začátku roku rezonuje více než jindy. Právě zimní období\, kdy naše těla čelí sníženému příjmu čerstvých potravin\, omezenému pohybu a zvýšené zátěži metabolismu\, je ideálním časem pro revizi našeho přístupu k detoxikaci.\nNaším průvodcem bude Dušan Plichta\, zakladatel Powerlogy a respektovaný expert v oblasti biohackingu. Jeho jedinečný přístup spojuje vědecké poznání s praktickou aplikací přírodních principů. Jako někdo\, kdo sám prošel cestou od vrcholového sportu k holistickému pojetí zdraví\, přináší Dušan autentický vhled do světa funkčních potravin a jejich role v přirozené detoxikaci.\nVečer se zaměříme na sílu zelených superpotravin a jejich správnou implementaci do každodenního života. Odkryjeme vědecky podložené principy detoxikace\, zbavené marketingových příslibů a mýtů. Dozvíte se\, jak vytvořit udržitelné návyky\, které podporují přirozenou schopnost těla obnovovat rovnováhu.\nSoučástí večera bude i praktická ukázka aplikace těchto principů. Ve spolupráci s Powerlogy a Vibe Bistro jsme připravili speciální ochutnávkové menu. Dušan osobně představí jednotlivé produkty a vysvětlí jejich praktické využití. Každý účastník si navíc odnese domů balíček vzorků pro vlastní experimentování.\nSetkání proběhne v inspirativním prostoru Scott.Weber Workspace (Boudníkova 2538/13\, Praha 8)\, kde se v komorní atmosféře potkáte s podobně smýšlejícími lidmi. Těšit se můžete na večer plný objevných informací\, kvalitního jídla a podnětných konverzací.\nVstupenky jsou dostupné na GoOut (odkaz níže)\nhttps://goout.net/cs/ffp-detox-jak-se-odpojit-od-toxinu/szcvmox/
URL:https://karlinem.cz/event/ffp-detox-jak-se-odpojit-od-toxinu/
LOCATION:DOCK in Five .- Scott.Weber\, oudníkova 2538/13\, 180 00 Praha 8\, Dock in Five\, Praha 8\, 18000
ATTACH;FMTTYPE=image/jpeg:https://karlinem.cz/wp-content/uploads/2024/12/2.jpg
ORGANIZER;CN="FuturFoodPrague":MAILTO:daniela@futurefoodprague.cz
END:VEVENT
BEGIN:VEVENT
DTSTART;TZID=Europe/Prague:20240625T110000
DTEND;TZID=Europe/Prague:20240625T150000
DTSTAMP:20260421T195655
CREATED:20240621T114203Z
LAST-MODIFIED:20240621T114203Z
UID:10000567-1719313200-1719327600@karlinem.cz
SUMMARY:Dreamy Walking workshop
DESCRIPTION:This event is very open for English speakers. English description can be found below. 🇬🇧\nKdybyste byli bytostí ze snu\, jakou bytostí byste byli? 🐲\nBěhem tohoto workshopu budete mít možnost vytvořit si kostým a vlastní postavu\, která se objeví v představení Dreamy Walking. To se uskuteční 3. července ve dvou časech – od 18:00 a od 20:30. Toto představení vnímá řeku Vltavu jako přístav snů a zve lidi\, aby se prošli po jejím břehu a potkali některé z jejích snových obyvatel. 💮\nPro účast na workshopu se prosím registruj\, ať víme\, kolik lidí očekávat. 👉 forms.gle/y5vt5QH1FMmbWABM7\n🤍 Co očekávat? 🤍\nPři tvorbě bytostí se necháme inspirovat řekou a jejím okolím a využijeme upcyklovaných materiálů k výrobě kostýmů. Příprava pro představení spočívá také ve vytvoření specifické osobnosti a charakteristických detailů každého tvora\, pro kterého pak následně najdeme oblíbené místo.\nÚčast na workshopu a představení nevyžaduje žádné předchozí umělecké zkušenosti ani dovednosti\, celým procesem vás bude provázet kostýmní výtvarník. Budete potřebovat jen trochu hravosti\, zvědavosti a představivosti! 🤸\nPokud tedy máte chuť přivést k životu nějaké imaginární tvory a být součástí představení\, čekáme na vás v dílně Dreamy Walking. 🎉\n📅 HARMONOGRAM 📅\n25. 6. od 11:00 Dreamy Walking workshop – výroba kostýmů a postav k představení\n3. 7. 18:00 a 20:30 Dreamy Walking představení 👉facebook.com/share/RDLLvNWt2e8TtEF9/\n*Výroba kostýmů neznamená povinnou účast na představení. Můžeš si jen přijít vyrobit kostým a postavu. Ale vítáme všechny\, kteří by se rádi zúčastnili obou částí.\nAkce je otevřená pro všechny věkové kategorie od 13 let.\n🇬🇧 ENGLISH 🇬🇧\nWhat kind of creature would you be if you were a creature from a dream? 🐲\nDuring this workshop\, you will have the possibility to create a costume for yourself to turn into a character that will appear in the Dreamy Walking performance that is happening on July 3 from 6 pm and 8:30 pm. This performance takes the Vltava river as a harbour of dreams and invites people to wander along its shore to meet some of its peculiar inhabitants.💮\nPlease register for the workshop so we know how many people to expect. 👉 forms.gle/y5vt5QH1FMmbWABM7\n🤍 What should you expect? 🤍\nWe will get inspired by the river and its surroundings to create the creatures and use upcycled materials to make the costumes. 🎭 We will also prepare for the performance by establishing the personality and specificity of each creature and finding their preferred habitat.\nNo previous artistic experience or skill is required\, you will be guided through the process by a costume designer. All you will need is some playfulness\, curiosity\, and imagination! 🤸\nSo if you are motivated to bring some imaginary creatures to life and be part of this performance\, we are waiting for you in the Dreamy Walking workshop. 🎉\n📅 SCHEDULE 📅\n25. 6. from 11 am Dreamy Walking workshop – costume manufacture and character creation for the performance\n3. 7. from 6 pm and 8:30 pm. Dreamy Walking performance 👉facebook.com/share/RDLLvNWt2e8TtEF9/\n*If you want to come to create a costume and a character\, you don’t have to be part of the performance. However\, people who would like to be part of both events are more than welcome.\nThe event is suitable for people aged 13 and older.
URL:https://karlinem.cz/event/dreamy-walking-workshop/
LOCATION:Přístav 18600\, Rohanský ostrov 8\, Karlín\, 18600\, Česká republika
CATEGORIES:Workshop
ATTACH;FMTTYPE=image/png:https://karlinem.cz/wp-content/uploads/2024/06/Dreamy-Walking-2.png
END:VEVENT
BEGIN:VEVENT
DTSTART;TZID=Europe/Prague:20240620T184500
DTEND;TZID=Europe/Prague:20240620T220000
DTSTAMP:20260421T195655
CREATED:20240619T000020Z
LAST-MODIFIED:20240619T000619Z
UID:10000549-1718909100-1718920800@karlinem.cz
SUMMARY:Latino party - Salsa & Bachata open-air dancing
DESCRIPTION:LATINO PARTYSalsa a bachata open air v River Rink Karlín\nKAŽDÝ ČTVRTEK PO CELÉ LÉTO  latino rytmy\, tanec\, emoce\, parket pod širým nebem\, úžasná atmosféra a vychlazené drinky.\n\nProgram: 18.00-18.45 Workshop kubánské salsy s tanečními školami DanceDifferent a Salsaholics.\n\n 18.45-22.00 Latino party – bachata a kubánská salsa\n\n\n Úroveň workshopu:– alespoň mírně pokročilí (musíte znát základní krok casino nebo quapea\, dile que no\, enchufala\, vasilala)– pro začátečníky a úplné začátečníky bude připraven jeden lektor navíc\, se kterým se naučíte základy salsy\, abyste si následující párty víc užili.\n\n CENA 100 Kč za celý večer (zahrnuje workshop a party)\n\nTěšíme se na Vás!
URL:https://karlinem.cz/event/latino-party-salsa-bachata-open-air-dancing/
LOCATION:River Rink Karlín\, Karolínská 8\, Karlín\, 18600\, Česká republika
CATEGORIES:Festival,Party,Tanec,Workshop
ATTACH;FMTTYPE=image/jpeg:https://karlinem.cz/wp-content/uploads/2024/05/Web-1920-–-19.jpg
END:VEVENT
BEGIN:VEVENT
DTSTART;TZID=Europe/Prague:20240303T140000
DTEND;TZID=Europe/Prague:20240303T160000
DTSTAMP:20260421T195655
CREATED:20240201T072610Z
LAST-MODIFIED:20240201T072610Z
UID:10000390-1709474400-1709481600@karlinem.cz
SUMMARY:Open house Praha: Židovská historie Žižkova a Karlína
DESCRIPTION:Dagmar Winklerová\, skvělá vypravěčka příběhů a zasvěcená průvodkyně\, se s vámi vydá po stopách zmizelých židovských sousedů a představí památky\, které jejich staletá přítomnost zanechala ve dvou čtvrtích přiléhajících k vrchu Vítkov. Žižkov a Karlín spojuje nejen tunel\, ale i minulost spjatá s průmyslem. Přesto se tyto dvě čtvrti vyvíjely v mnohém odlišně\, a podobně rozmanité byly i osudy jejich židovských obyvatel. Na trase procházky prozkoumáme starý hřbitov se vzácnými barokními náhrobky i jedním docela moderním památníkem. \nVyslechneme si vyprávění o morových i jiných ranách\, jež zdejší židovskou komunitu časem postihly\, ale i o jejích neobyčejných podnikatelských úspěších. Projdeme se pod vítkovským kopcem a na závěr se nám naskytne unikátní možnost navštívit interiér bývalé karlínské synagogy. Církev Československá husitská\, která nyní prostor spravuje\, zde uchovává jedno umělecké dílo s mimořádnou podobou i příběhem\, které symbolicky propojuje vyznavače Staré i Nové smlouvy… \nPraktické informace:\n\nMísto setkání je u vchodu na Starý židovský hřbitov na Žižkově\, pod Žižkovskou televizní věží (Fibichova 2818/2a\, Praha 3–Žižkov).\nTelefonický kontakt na dobrovolníka bude pro případ „nouze“ uveden na vstupence.\nLektorkou komentované vycházky je Dagmar Winklerová.\nPředpokládaná délka akce je cca 2 hodiny.\nKapacita skupiny je omezená\, vstupenky je možné zakoupit pouze předem.\nNa vybraných akcích pořizujeme fotografie a/nebo videozáznamy za účelem jejich dokumentování a propagace. Více informací zde.
URL:https://karlinem.cz/event/open-house-praha-zidovska-historie-zizkova-a-karlina/
LOCATION:u vchodu na Starý židovský hřbitov na Žižkově\, Fibichova 2818/2a\, Praha 3–Žižkov
CATEGORIES:Prohlídka
ATTACH;FMTTYPE=image/jpeg:https://karlinem.cz/wp-content/uploads/2024/02/Zidovska_historie_Zizkova_a_Karlina_foto_Tomas_Sysel-016_4x3-700x525-1.jpeg
ORGANIZER;CN="Open%20House%20Praha":MAILTO:info@openhousepraha.cz
END:VEVENT
BEGIN:VEVENT
DTSTART;TZID=Europe/Prague:20231207T170000
DTEND;TZID=Europe/Prague:20231207T193000
DTSTAMP:20260421T195655
CREATED:20231124T223230Z
LAST-MODIFIED:20231124T223230Z
UID:10000273-1701968400-1701977400@karlinem.cz
SUMMARY:Workshop ADVENTNÍ VĚNEC
DESCRIPTION:Víte\, jak na adventní věnec bez tavící pistole? Doražte na náš workshop a zjistíte to. Z workshopu si odnesete vlastnoručně vyrobený adventní věnec\, vánoční naladění a dobrou náladu. \nZákladem věnce je slaměný korpus. Zdobení si vybíráte z našich sušených květin\, zelených rostlin z našeho pole.  Udělejte si Vánoce v souladu s přírodou. My vám s tím rádi pomůžeme.
URL:https://karlinem.cz/event/workshop-adventni-venec/
LOCATION:Etapa\, Urxova 479/6\, Praha 8\, 18600
CATEGORIES:Workshop
ATTACH;FMTTYPE=image/webp:https://karlinem.cz/wp-content/uploads/2023/11/1-1.webp
END:VEVENT
BEGIN:VEVENT
DTSTART;TZID=Europe/Prague:20231126T140000
DTEND;TZID=Europe/Prague:20231126T180000
DTSTAMP:20260421T195655
CREATED:20231124T223839Z
LAST-MODIFIED:20231124T223839Z
UID:10000274-1701007200-1701021600@karlinem.cz
SUMMARY:Adventní dílny v Karlínském Spektru
DESCRIPTION:Přijďte se příjemně naladit na Advent. Na Adventních dílnách v Karlínském Spektru si můžete vybrat\, jaký výrobek si chcete vytvořit a jen za ten platíte. Doporučujeme si dílničky rezervovat předem. \nSeznam dílen: \n\nadventní věnec malý – 200 Kč\nadventní věnec velký – 250 Kč\nsněhulák z dřevěných ozdob – 30 Kč\nvánoční cake pops – 40 Kč\nmalovaná skleněná ozdoba – 30 Kč\nmacramé – 20 Kč\nmalovaná svíčka – 60 Kč\ndárková taška a přání s potiskem – 40 Kč\n\nDílny si můžete rezervovat již teď – rezervace.
URL:https://karlinem.cz/event/adventni-dilny-v-karlinskem-spektru/
LOCATION:DDM Karlínské Spektrum\, Karlínské nám. 7\, Praha 8
CATEGORIES:Pro děti,Workshop
ATTACH;FMTTYPE=image/jpeg:https://karlinem.cz/wp-content/uploads/2023/11/get_plakat.jpeg
END:VEVENT
BEGIN:VEVENT
DTSTART;TZID=Europe/Prague:20231120T160000
DTEND;TZID=Europe/Prague:20231120T230000
DTSTAMP:20260421T195655
CREATED:20231118T162002Z
LAST-MODIFIED:20231118T162002Z
UID:10000253-1700496000-1700521200@karlinem.cz
SUMMARY:Snow Stories Night
DESCRIPTION:Přátelé a kamará­di\, rádi bychom vás poz­vali na první ročník naší nové akce. Jak je psáno v názvu akce\, ten­to večer si budeme vyprávět příběhy z hor. Příběhy\, které někdy dopad­ly lépe a někdy hůř a o to je důležitější vzít si z těch­to unikát­ních zážitků ponaučení. Zák­la­dem celého večera budou vys­toupení něko­li­ka milovníků hor\, kteří se dostali do laviny\, přežili a nyní se s námi při­j­dou o své zkušenos­ti podělit. Vel­mi důležitým hostem bude také Pavel Kra­jčí ze Střediska lavi­nové pre­ven­cie. Průvod­cov­ání večerem se ujal všem jistě dobře známý Tomáš Kroczek. \nLehký přehled na co vše se můžete těšit:\n16.00 – 18.00 – Freeride\, skialp\, snb bazar (otevřený bazar pro každého\, kdo by rád něco koupil či sám prodal)\n19.00 – 20.00 – Jak vzniká lavi­nová před­pověď (Vys­toupí Pavel Kra­jčí ze Stre­diska lavínovej prevencie)\n20.00 – 22.00 – Bese­da s účast­níky lavi­nových nehod\n22.00 – Pre­miéra fil­mu GAMAR­JO­BA (film o freeridin­gu v Gruzii od Tomáše Guz­iu­ra a Petra Pražmovského \nVstup­né bude v oblíbeném for­má­tu\, tedy dobrovolné. \nA ano\, bar bude!
URL:https://karlinem.cz/event/snow-stories-night/
LOCATION:Kasárna Karlín\, Prvního pluku 2\, Karlín\, 18600\, Česká republika
CATEGORIES:Kino,Meet Up,Přednáška
ATTACH;FMTTYPE=image/jpeg:https://karlinem.cz/wp-content/uploads/2023/11/393434820_1062673075022276_4952897045345387019_n.jpeg
END:VEVENT
BEGIN:VEVENT
DTSTART;TZID=Europe/Prague:20231031T180000
DTEND;TZID=Europe/Prague:20231031T220000
DTSTAMP:20260421T195655
CREATED:20231018T060257Z
LAST-MODIFIED:20231018T060257Z
UID:10000206-1698775200-1698789600@karlinem.cz
SUMMARY:SATOSHILABS MEETUP: Designing and Developing a New Hardware
DESCRIPTION:If you are a tech prod­uct enthu­si­ast and you want to get rare first­hand insights into the jour­ney of cre­at­ing hard­ware from scratch\, then this meet­up is for you. \nTre­zor just launched a new prod­uct line that aims to bring self-cus­tody and dig­i­tal secu­ri­ty clos­er to the mass­es. And Matěj Žák\, Trezor’s CEO and Adam Budín­ský\, Trezor’s Head of Hard­ware\, are ready to spill some tea about how they made it hap­pen — from research\, project plan­ning\, design process and chal­lenges to behind-the-scenes sto­ries\, and takeaways. \nSo grab your tick­et\, bring your curios­i­ty and let’s dive into the fas­ci­nat­ing world of hard­ware together. \nThe event will be held in English. \nDoors open at 6 p.m. and you can look for­ward to: \n👉 insight­ful Case study pre­sen­ta­tion about the Tre­zor Safe fam­i­ly prod­uct line creation\n👉 Q&A and open dis­cus­sion\, so bring your ques­tions (or send them before­hand via IG @satoshilabs DMs to ensure your ques­tions will be answered)\n👉 light­ning raf­fle with unique prizes (new Tre­zor Safe 3 includ­ed)\, so have your LN wal­let ready (we rec­om­mend Wal­let of Satoshi)\n👉 a chance to take home a Tre­zor HW wallet\n👉 and of course net­work­ing with oth­er tech enthu­si­ast and Satoshi­L­abs peeps \nThe capac­i­ty is lim­it­ed\, so don’t hes­i­tate to book your seat.\nWe’re look­ing for­ward to meet­ing you soon at Kasár­na Karlín! \nBy tak­ing part in this event\, you grant the event orga­niz­ers full rights to the use of images result­ing from the pho­tog­ra­phy and video film­ing\, and any repro­duc­tions or adap­ta­tions of the images for mar­ket­ing\, pub­lic­i­ty or oth­er pur­pos­es. This might include (but is not lim­it­ed to): the right to use them in print­ed and online pub­lic­i­ty\, social media and press releas­es. If you do not wish to be pho­tographed\, please inform an event orga­niz­er dur­ing check-in.
URL:https://karlinem.cz/event/satoshilabs-meetup-designing-and-developing-a-new-hardware/
LOCATION:Kasárna Karlín\, Prvního pluku 2\, Karlín\, 18600\, Česká republika
CATEGORIES:Meet Up
ATTACH;FMTTYPE=image/jpeg:https://karlinem.cz/wp-content/uploads/2023/10/https___cdn.evbuc_.com_images_619038529_1361063847403_1_original.jpeg
END:VEVENT
BEGIN:VEVENT
DTSTART;VALUE=DATE:20231011
DTEND;VALUE=DATE:20231013
DTSTAMP:20260421T195655
CREATED:20230922T022439Z
LAST-MODIFIED:20230922T022439Z
UID:10000174-1696982400-1697155199@karlinem.cz
SUMMARY:KONFERENCE FORUM ELEKTROMOBILITA 2023
DESCRIPTION:6. ročník konference o současnosti\na budoucnosti bateriové a vodíkové elektromobility\nTENTO ROK SE MŮŽETE TĚŠIT CELKEM NA DVA DNY NABITÉ PŘEDNÁŠKAMI A DISKUSEMI ZAMĚŘENÝMI NA JIŽ DOBŘE ZNÁMÁ TÉMATA JAKO JE ELEKTRIFIKACE FLEETŮ A ROZVOJ DOBÍJECÍ INFRASTRUKTURY\, ALE I NA NOVÁ\, ZATO RYCHLE ROSTOUCÍ\, TÉMATA ELEKTRIFIKACE TĚŽKÝCH VOZIDEL A VODÍKU. I LETOS BUDE SOUČÁSTÍ KONFERENCE PREZENTACE VOZIDEL VÝZNAMNÝCH AUTOMOBILEK A MOŽNOST TESTOVACÍCH JÍZD. \nV ZÁVĚRU PRVNÍHO DNE KONFERENCE BUDE SPOLEČENSKÝ KOKTEJL\, KTERÝ JE URČEN VŠEM ZÁJEMCŮM O ROZŠÍŘENÝ NETWORKING K NAVÁZÁNÍ KONTAKTŮ. \nČEMU SE NA KONFERENCI FORA ELEKTROMOBILITA BUDEME VĚNOVAT? \n• ELEKTRIFIKACE FLEETŮ JEŠTĚ NENÍ VE FULL SWING\, ALE PROGRES JE ZŘEJMÝ\n• VÝDRŽ KAPACITY BATERIÍ\, GARANCE A ROZVOJ SEKUNDÁRNÍHO TRHU\n• ZPŘÍSŇOVÁNÍ EMISNÍ LEGISLATIVY A NOVÉ INCENTIVY\n• ELEKTRIFIKACE NÁKLADNÍ DOPRAVY UŽ MÁ PLNOU POZORNOST TĚCH\, KTERÝCH SE BUDE TÝKAT\n• INOVACE: NOVINKY V AUTECH\, EVOLUCE BATERIÍ\, ELEKTROMOBILITA A FLEXIBILITA V SÍTI\n• VODÍK V DOPRAVĚ: ROZVOJ PRO VZDÁLENĚJŠÍ CÍLE\, NEVSADIT VŠE JEN NA BATERIE\n• BUDOVY A ELEKTROMOBILITA: DOBÍJECÍ ŘEŠENÍ\, INTEGRACE DO INTELIGENTNÍCH BUDOV\, POŽÁRNÍ PŘEDPISY\n• SPOLEČNOST: MENTÁLNÍ BARIÉRY\, REÁLNÁ UHLÍKOVÁ STOPA\, ELEKTROMOBILITA V ESG \nPRO KOHO JE FORUM URČENO \n• PRO VŠECHNY\, KTERÉ ZAJÍMÁ BOOM ELEKTROMOBILITY\n• SPOLEČNOSTI S MALÝMI I VELKÝMI FLEETY OSOBNÍCH\, UŽITKOVÝCH I TĚŽKÝCH VOZIDEL\n• STÁTNÍ SPRÁVU\n• MUNICIPALITY\n• DODAVATELE PRODUKTŮ A SLUŽEB ELEKTROMOBILITY A VODÍKOVÉ MOBILITY\n• LEASINGOVÉ SPOLEČNOSTI A BANKY \nVÍCE INFORMACÍ NAJDETE NA HTTPS://WWW.FORUMELEKTROMOBILITA.CZ.
URL:https://karlinem.cz/event/konference-forum-elektromobilita-2023/
LOCATION:Forum Karlín\, Pernerova 51\, Praha 8\, 18600
CATEGORIES:Meet Up,Přednáška,Výstava,Workshop
ATTACH;FMTTYPE=image/jpeg:https://karlinem.cz/wp-content/uploads/2023/09/366968209_684509320380725_1296704899619103348_n.jpeg
END:VEVENT
BEGIN:VEVENT
DTSTART;TZID=Europe/Prague:20231004T180000
DTEND;TZID=Europe/Prague:20231004T200000
DTSTAMP:20260421T195655
CREATED:20230929T223151Z
LAST-MODIFIED:20230929T223151Z
UID:10000194-1696442400-1696449600@karlinem.cz
SUMMARY:Fotovíno s Kevinem V. Tonem
DESCRIPTION:Přijďte na první z našich pravidelných setkání v nově otevřené galerii Fragment. Fotovíno je setkání přátel fotografie s autory nad sklenkou dobrého vína. První z nich bude fotograf Kevin V. Ton\, který s Vámi promluví na téma „Cesta z Karlína ke Grantu a zpět“.\nKDY? 4.10.2023 od 18.00\nKDE? Fragment Gallery\, Rohanské nábřeží 713/6\, 18600 Praha 8 – Invalidovna\nVíno: Dog in Dock\nWeb galerie: https://www.czechphotoedition.org/\nSvou účast nám prosím potvrďte na e-mail: cp@czechphoto.org
URL:https://karlinem.cz/event/fotovino-s-kevinem-v-tonem/
LOCATION:Fragment Gallery\, Rohanské nábřeží 713/6\, Praha 8 - Invalidovna\, 18600
CATEGORIES:Meet Up,Přednáška
ATTACH;FMTTYPE=image/jpeg:https://karlinem.cz/wp-content/uploads/2023/09/381046786_692212139616487_5769525250825580205_n.jpeg
ORGANIZER;CN="Fragment%20Gallery":MAILTO:info@czechphoto.org
END:VEVENT
BEGIN:VEVENT
DTSTART;TZID=Europe/Prague:20230923T140000
DTEND;TZID=Europe/Prague:20230923T220000
DTSTAMP:20260421T195655
CREATED:20230912T084421Z
LAST-MODIFIED:20230912T084421Z
UID:10000165-1695477600-1695506400@karlinem.cz
SUMMARY:DREAM OR DIE!: release festival with MADHOUSE EXPRESS & KILL THE DANDIES!
DESCRIPTION:Koncert k novýmu releasu? Proč ne rovnou festival? Dvě přední jména české psychedelie už několikrát úspěšně zkřížily cesty. Madhouse Express pokřtí novou desku\, Kill The Dandies! pokřtí singl. Pojďme to zase udělat trochu jinak… DREAM OR DIE!\nKasárny Karlín se toho času ponoří do celodenní festivalové nálady. Hudba\, umění\, poezie\, přednáška\, workshopy a spousta dalšího. Garáže\, bazén\, nádvoří\, roh\, open air stage – stylová tečka za létem!\nPrvní svě vlny zmizely jak pára nad hrncem\, zde finální lupen\nhttps://goout.net/…/dream-or-die-madhouse…/szqoujw/\nA new record release party? What about celebrate it with one day festival? Madhouse Express will release new album. Kill The Dandies! single and there is much more to come… DREAM OR DIE!\n//MUSIC//\nMadhouse Express • Kill The Dandies! • The Dharma Chain (Berlin) • Koonda Holaa • Janny Richter & The Hog Ranch • Urban Fungus\n//DJ’s//\nCandy Flip • Voodoo Beats • Heller Than Hell (Berlin) • Kyj & Qyj\n//EXHIBITIONS//\nDavid Kolovratník • Lída Staňková • Anna Baštýřová (photo)\n//POETRY//\nMiroslav Sosoi • Vojtěch Vacek\n//LECTURE//\nMgr. Eva Césarová – Česká psychedelická společnost\n//Workshop//\nWeird Visuals\nand\nmore to be announced
URL:https://karlinem.cz/event/dream-or-die-release-festival-with-madhouse-express-kill-the-dandies/
LOCATION:Kasárna Karlín\, Prvního pluku 2\, Karlín\, 18600\, Česká republika
CATEGORIES:Festival
ATTACH;FMTTYPE=image/jpeg:https://karlinem.cz/wp-content/uploads/2023/09/375062458_794222916037312_4367329538580882087_n.jpeg
ORGANIZER;CN="Kas%C3%A1rna%20Karl%C3%ADn":MAILTO:info@kasarnakarlin.cz
END:VEVENT
BEGIN:VEVENT
DTSTART;TZID=Europe/Prague:20230910T110000
DTEND;TZID=Europe/Prague:20230910T180000
DTSTAMP:20260421T195655
CREATED:20230730T155651Z
LAST-MODIFIED:20230730T155734Z
UID:10000072-1694343600-1694368800@karlinem.cz
SUMMARY:Karlínský den pro duševní zdraví
DESCRIPTION:Srdečně zveme na třetí ročník Karlínského dne pro duševní zdraví\, který se bude konat 10. září na Karlínském náměstí.\nTématem letošního ročníku je “O vzteku a jiných dobrých emocích”. Dozvíte se spoustu zajímavých informací a tipů\, jak si poradit se svými emocemi\, ale i spoustu dalších zajímavých doporučení\, jak pečovat o své psychické zdraví. Budete se moci poradit s odborníky mnoha různých organizací\, letos jich bude více než 15 🙂\nChystáme pro vás opět zajímavé workshopy\, například mindfulness či kung-fu terapie. A nebude opět chybět skvělé bubnování Drum Circle s Petrem Šušorem.\nTěšit se můžete i na moderované diskuze s odborníky\, které budou tentokrát nahrávané pro Psychologický podcast a pro pořad Balanc Radia Wave.\nNa akci uvidíte i ukázku canisterapie a v “tulikoutku” organizace Léčivé tlapky se můžete pomazlit s canisterapeutickými pejsky.\nVezměte s sebou i děti\, pro ně budou připraveny tvůrčí dílničky a aktivity\, aby se dospělí mohli zastavit a v klidu si popovídat.\nLetos přijede i Bibliobus Oskar\, takže si na akci můžete půjčit něco zajímavého na čtení. \nAkce se koná ve spolupráci s Karlin Market a za podpory MČ Praha 8. Odborným partnerem akce je Česká asociace pro psychoterapii.
URL:https://karlinem.cz/event/karlinsky-den-pro-dusevni-zdravi/
LOCATION:Karlínské náměstí\, Karlínské náměstí\, Karlín
CATEGORIES:Festival,Workshop
ATTACH;FMTTYPE=image/png:https://karlinem.cz/wp-content/uploads/2023/07/Uvod-FB-KM-psycho-2023.png
END:VEVENT
BEGIN:VEVENT
DTSTART;TZID=Europe/Prague:20230907T140000
DTEND;TZID=Europe/Prague:20230907T180000
DTSTAMP:20260421T195655
CREATED:20230827T143607Z
LAST-MODIFIED:20230827T143607Z
UID:10000137-1694095200-1694109600@karlinem.cz
SUMMARY:Zastávka volný čas - Karlín září
DESCRIPTION:Tradiční akci pro děti po letech přesouváme do Kaizlových sadů. Těšit se můžete na množství různorodých aktivit pro děti\, pódiový program\, skákací hrad i něco dobrého k snědku.\nOd 14 hodin také rádi přivítáme školní družiny\, pro které máme připravený speciální program a odměny.
URL:https://karlinem.cz/event/zastavka-volny-cas-karlin-zari/
LOCATION:Kaizlovy sady\, Kaizlovy sady\, Praha 8 - Karlín\, 180 00
CATEGORIES:Pro děti
ATTACH;FMTTYPE=image/jpeg:https://karlinem.cz/wp-content/uploads/2023/08/get_plakat.jpeg
END:VEVENT
BEGIN:VEVENT
DTSTART;VALUE=DATE:20230612
DTEND;VALUE=DATE:20230618
DTSTAMP:20260421T195655
CREATED:20230612T090758Z
LAST-MODIFIED:20230612T092211Z
UID:10000042-1686528000-1687046399@karlinem.cz
SUMMARY:ZnakoFest 2023
DESCRIPTION:ZnakoFest se uskuteční poprvé více dní a to od pondělí 12. června do soboty 17. června 2023.\nZnakofest je unikátní interkulturní a multižánrový festival\, který propojuje světy slyšících a neslyšících a zviditelňuje minoritní kulturu a komunitu neslyšících.\nCílem festivalu je boření zažitých mýtů a předsudků o neslyšících lidech a znakovém jazyce\, a především se společně pobavit. Festival nabízí širokou škálu uměleckých workshopů\, vystoupení neslyšících umělců a skupin\, výstavu fotografií neslyšících fotografů\, přednášky\, divadelní představení\, promítání premiéry filmu neslyšících tvůrců. V sobotu v Kasárnách Karlín se bude mimo jiné také konat ukázková hodina českého znakového jazyka\, která bude otevřená veřejnosti.
URL:https://karlinem.cz/event/znakofest-2023/
LOCATION:Kasárna Karlín\, Prvního pluku 2\, Karlín\, 18600\, Česká republika
CATEGORIES:Festival,Workshop
ATTACH;FMTTYPE=image/jpeg:https://karlinem.cz/wp-content/uploads/2023/06/ZnakoFest-23-2.jpg
END:VEVENT
BEGIN:VEVENT
DTSTART;TZID=Europe/Prague:20230601T180000
DTEND;TZID=Europe/Prague:20230601T220000
DTSTAMP:20260421T195655
CREATED:20230530T152852Z
LAST-MODIFIED:20230530T152911Z
UID:10000040-1685642400-1685656800@karlinem.cz
SUMMARY:Salsa & Bachata Open Air at River Rink Karlín
DESCRIPTION:(ENG bellow)\nSalsa a bachata open air v River Rink Karlín ⭐️\n📍Každý čtvrtek📍 \nPo úspěchu salsa a bachata party v River Rink během loňského léta jsme se rozhodli pokračovat i letos !\nTakže čekáme\, až přijdete a vychutnáte si hudbu k tanci a poznáte nové lidi na nádherném místě blízko řeky s výborným jídlem a pitím. \n🕕 18:00-19:00: Hudba\, drink a tanec 🎧💃🕺\n🕖 19:00-20:00: Otevřená lekce kubánské salsy pro začátečníky (Lole & Ksenia)\n🕗 20:00-22:00: Social dancing a animaci se Kseniou Chkalovou:\nhttps://www.facebook.com/groups/salsa.praha.komunita/permalink/5006322769488320 \nTěšíme se na Vás! 💃🕺 \nVstupné:\n– Párty: 100 Kč-\n– Párty + lekce: 200 Kč- \n👉 River City Karlín: Karolinská 8 – Prague 8 \n[ENG] ————————————– \nSalsa and bachata open air at River Rink Karlín ⭐️\n📍Every Thursday📍 \nAfter the success of the salsa and bachata parties at River Rink during the last summer we decided to continue this year !\nSo we are waiting for you to come on and enjoy the music to dance and meet new people in a wonderful place close to the river with delicious food and drinks. \n🕕 18:00-19:00: Music\, drink and dance 🎧💃🕺\n🕖 19:00-20:00: Cuban salsa open class for beginners (Lole & Ksenia)\n🕗 20:00-22:00: Social dancing and animation with Ksenia Chkalova:\nhttps://www.facebook.com/groups/salsa.praha.komunita/permalink/5006322769488320 \nLooking forward to see you! 💃🕺 \nEntrance fee:\n– Party only: 100 CZK-\n– Party + class: 200 CZK- \n👉 River City Karlín: Karolinská 8 – Prague 8
URL:https://karlinem.cz/event/salsa-bachata-open-air-at-river-rink-karlin/
LOCATION:River Rink Karlín\, Karolínská 8\, Karlín\, 18600\, Česká republika
CATEGORIES:Workshop
ATTACH;FMTTYPE=image/jpeg:https://karlinem.cz/wp-content/uploads/2023/05/Salsa-bachata-Karlin-rink-2.jpg
END:VEVENT
END:VCALENDAR